BEGIN:VCALENDAR
VERSION:2.0
CALSCALE:GREGORIAN
PRODID:-//MyApp//Calendar 1.0//EN
BEGIN:VEVENT
METHOD:PUBLISH
UID:32086@regionalniportaly.cz
DTSTAMP:20260422T105902Z
DTSTART;VALUE=DATE:20230723
DTEND;VALUE=DATE:20230724
SUMMARY:A. Caldara: Harmonie planet - derniéra
DESCRIPTION:Serenata La concordia de’ pianeti (Harmonie planet) vídeňského dvorního vicekapelníka Antonia Caldary zpracovává oblíbený barokní námět vycházející z filosofie harmonie sfér. Tentokrát se však vztahuje ke konkrétní osobě\, jíž není nikdo jiný než císařovna Alžběta Kristýna\, manželka císaře Karla VI.Dílo bylo provedeno v listopadu 1723 ve Znojmě u příležitosti jmenin panovnice (její choť byl mj. o několik měsíců dříve korunován v Praze českým králem). V díle vystupuje sedm božstev jako symbol sedmi planet (Diana\, Apollón\, Venuše\, Jupiter\, Mars\, Merkur a Saturn)\, která vzdávají hold panovnici. Slavnostní charakter dodávají skladbě trubky a tympány. Serenata\, již doplňuje v závěru licenza\, je komponována ve stylu pozdní benátské opery\, jíž byl Caldara významným představitelem.Ve Znojmě se těšte na dílo ve scénickém provedení a ve stylové interpretaci na dobové nástroje. Špičkový umělecký i produkční tým má za sebou několik cen Thalie. V minulosti ve světové premiéře uvedl ve scénické inscenaci dílo G. F. Händela Saul (2019) nebo Návrat Tobiáše&nbsp\;J. Haydna (2022). Hudební festival Znojmo představil ve vlastní produkci již 18. inscenací\, převážně oratorií nebo oper.Účinkují:Adam Plachetka\, Andreas Scholl\, Dagmar Šašková\,&nbsp\;Hana Blažíková\, Jaroslav Březina\, Franko Klisovic&nbsp\;a Czech Ensemble Baroque.Dirigent: Roman VálekSbormistryně: Tereza Válková&nbsp\;Režie: Tomáš Ondřej PilařKostýmní výtvarník: Ivana Ševčík MikloškováSvětelný design: David KachlířChoreografie: Martin Šinták&nbsp\;V listopadu 1723 se císař Karel VI. s&nbsp\;manželkou Alžbětou Kristýnou a s dětmi (šestiletou Marií Terezií a&nbsp\;pětiletou Marií Annou) vraceli do&nbsp\;Vídně z&nbsp\;Prahy\, kde se dva měsíce předtím konala slavnostní korunovace císařského páru na českého krále a královnu. Karel VI. se tehdy rozhodl oslavit jmeniny své (tehdy opět těhotné) manželky ve&nbsp\;Znojmě\, a to gratulační hudební slavností\, v&nbsp\;níž otevřeně vyjádřil naději na&nbsp\;příchod mužského potomka.Úkolu vytvořit gratulační hudebně dramatické dílo La concordia de’pianeti&nbsp\;&nbsp\;(Harmonie planet) se&nbsp\;zhostili císařský dvorní vicekapelník Antonio Caldara a&nbsp\;císařský dvorní básník Pietro Pariati. Velkolepá oslava ve slavnostně osvětleném městě\, během které z&nbsp\;kašny proudilo na&nbsp\;útraty města víno\, se konala 19. listopadu 1723 a vyvrcholila provedením zmíněného díla na znojemském Horním náměstí pod širým nebem. Císařskou dvorní kapelu doplnili do&nbsp\;počtu 144 hudebníci z&nbsp\;okolních klášterů\, produkci na&nbsp\;vyzdobených triumfálních vozech za&nbsp\;svitu pochodní nadšeně přihlíželo celé město. Dodejme\, že poslední potomek Karla VI. se&nbsp\;narodil v&nbsp\;dubnu 1724 – a&nbsp\;byla to&nbsp\;opět dcera\, Marie Amálie.
LOCATION:Znojmo
END:VEVENT
END:VCALENDAR