BEGIN:VCALENDAR
VERSION:2.0
CALSCALE:GREGORIAN
PRODID:-//MyApp//Calendar 1.0//EN
BEGIN:VEVENT
METHOD:PUBLISH
UID:32101@regionalniportaly.cz
DTSTAMP:20260422T094857Z
DTSTART;VALUE=DATE:20230422
DTEND;VALUE=DATE:20230423
SUMMARY:Argema & Ines
DESCRIPTION:Argema &amp\; Ines vystoupí 22.4. v KD Práče u Znojma.
LOCATION:Práče
END:VEVENT
END:VCALENDAR