BEGIN:VCALENDAR
VERSION:2.0
CALSCALE:GREGORIAN
PRODID:-//MyApp//Calendar 1.0//EN
BEGIN:VEVENT
METHOD:PUBLISH
UID:32102@regionalniportaly.cz
DTSTAMP:20260422T150335Z
DTSTART;VALUE=DATE:20231014
DTEND;VALUE=DATE:20231015
SUMMARY:MOVIENIGHT 2023
DESCRIPTION:Chceš se dívat na filmy debatovat o nich a sejít se s lidmi z filmové branže ? Tak máš jedinečnou příležitost 14.řijna 2023 ve Znojmě. Kupuj lístky co nejdříve ať je máš co nejlevnější !
LOCATION:Znojmo
END:VEVENT
END:VCALENDAR