BEGIN:VCALENDAR
VERSION:2.0
CALSCALE:GREGORIAN
PRODID:-//MyApp//Calendar 1.0//EN
BEGIN:VEVENT
METHOD:PUBLISH
UID:32146@regionalniportaly.cz
DTSTAMP:20260422T094825Z
DTSTART;VALUE=DATE:20230424
DTEND;VALUE=DATE:20230425
SUMMARY:Petr Švancara - beseda
DESCRIPTION:Beseda s bývalým špičkovým fotbalistou a bavičem.
LOCATION:Znojmo
END:VEVENT
END:VCALENDAR