BEGIN:VCALENDAR
VERSION:2.0
CALSCALE:GREGORIAN
PRODID:-//MyApp//Calendar 1.0//EN
BEGIN:VEVENT
METHOD:PUBLISH
UID:32162@regionalniportaly.cz
DTSTAMP:20260422T162544Z
DTSTART;VALUE=DATE:20230727
DTEND;VALUE=DATE:20230728
SUMMARY:Koncert vítězů
DESCRIPTION:Koncert věnovaný nadějím poučené interpretace. Hudebníci\, kteří absolvují Letní školu barokní hudby se stávají součástí českých i zahraničních ansámblů a mnozí z nich i nadále spolupracují s festivalem například na festivalových stagionách. Na zámku v Jevišovicích se zároveň nachází 2. největší sbírka starých hudebních nástrojů v ČR. Proto je umístění koncertu do tohoto koutu znojemského regionu nasnadě.&nbsp\;Za doprovodu orchestru Musica Aeterna vystoupí:Soňa Mindová - zobcová flétnaDaniel a Vojtěch Podroužek - housle a hobojAlžběta Hlavicová a Alexandra Bláhová - hoboje&nbsp\;Odjezd autobusu od městského divadla&nbsp\;v 17:30 hodin.&nbsp\;
LOCATION:Jevišovice
END:VEVENT
END:VCALENDAR