BEGIN:VCALENDAR
VERSION:2.0
CALSCALE:GREGORIAN
PRODID:-//MyApp//Calendar 1.0//EN
BEGIN:VEVENT
METHOD:PUBLISH
UID:32176@regionalniportaly.cz
DTSTAMP:20260422T094907Z
DTSTART;VALUE=DATE:20230514
DTEND;VALUE=DATE:20230515
SUMMARY:Tančírna TS Single
DESCRIPTION:Rádi byste oprášili své dovednosti z tanečních kurzů či si jen chcete zpříjemnit nedělní podvečer tancem a dobrou zábavou? Na plesech se na parketě nedá hnout nebo nehraje ta správná taneční hudba? Tak nezoufejte! Právě pro Vás jsou zde TANČÍRNY TS Single!Čeká na Vás několik hodin dobré hudby\, fajn zábavy a hlavně tance! Protančíme&nbsp\;večer elegantními standartními tanci a zavlníme se i&nbsp\;v latinsko-amerických rytmech!Můžete se těšit i na taneční ukázky v podání členů taneční skupiny!Neváhejte a přidejte se k nám v neděli v Citonicích!Budeme se na Vás těšit!
LOCATION:Citonice
END:VEVENT
END:VCALENDAR