BEGIN:VCALENDAR
VERSION:2.0
CALSCALE:GREGORIAN
PRODID:-//MyApp//Calendar 1.0//EN
BEGIN:VEVENT
METHOD:PUBLISH
UID:32206@regionalniportaly.cz
DTSTAMP:20260422T110844Z
DTSTART;VALUE=DATE:20230702
DTEND;VALUE=DATE:20230703
SUMMARY:Petra Janů & Amsterdam - Kulturní léto na Hotelu Bítov 2023
DESCRIPTION:"Hvězda na Hvězdičce". Na pódiu pod širým nebem na vyhlídce Hvězdička vystoupí hvězda českého pop rocku Petra Janů s kapelou Amsterdam. Koncert se koná v zahradním areálu Hotelu Bítov\, takže&nbsp\; počítejte s možnými rozmary počasí. Přibalte si pro jistotu pláštěnku ( deštníky jsou z důvodu bezpečnosti zakázány ).Koncert odstartuje v 19:00 hodin.&nbsp\;
LOCATION:Bítov
END:VEVENT
END:VCALENDAR