BEGIN:VCALENDAR
VERSION:2.0
CALSCALE:GREGORIAN
PRODID:-//MyApp//Calendar 1.0//EN
BEGIN:VEVENT
METHOD:PUBLISH
UID:32343@regionalniportaly.cz
DTSTAMP:20260422T105932Z
DTSTART;VALUE=DATE:20231116
DTEND;VALUE=DATE:20231117
SUMMARY:Visací zámek & ZNC - KD Práče
DESCRIPTION:Visací zámekLegendární punková kapela Visací zámek pokračuje v oslavách ke čtyřicátému výročí svého vzniku. Visací zámek (familiérně Visáči) je punková skupina\, působící na české hudební scéně již od roku 1982. Kapela hraje stále v původní sestavě. Zejména v počátcích svojí tvorby silně ovlivnila zvuk celé jedné generace kapel a názory celé jedné generace posluchačů. Hity jako Uniformy nebo Dopravní značky položily ideový základ moderního českého anarchopacifismu\, ostatní raná díla skupiny Visací Zámek jsou zase pevně rozkročena mezi vypjatým nihilismem a raným postmodernismem. Během 90. let se kapela ideově vzdálila původním anarchistickým ideálům a punkovému zvuku a myšlenkově se přiblížila spíše nihilismu a hudebně pak možná dřevnímu heavy-metalu. V současné době se kapela vrací k punkovým kořenům a snaží se získat přízeň další generace fanoušků a fanynek například hitem a videoklipem Známka punku.&nbsp\;&nbsp\;ZNCzaložena blíže nedochovaného data v roce&nbsp\;1986\, členy rozpadlých kapelZastávka&nbsp\;Mileč&nbsp\;a&nbsp\;Kuličkové Ložisko&nbsp\;-&nbsp\;Démou\,&nbsp\;Cainem&nbsp\;a&nbsp\;Jožžinem.Sestavu doplňuje&nbsp\;Golda&nbsp\;a&nbsp\;Znouzectnost&nbsp\;odehraje své historicky první veřejné vystoupení&nbsp\;26.11.1986\, spolu s dalšími kapelami ve vysokoškolském klubu Oko v Plzni\, v sestavě...Od roku 2010 Znouzectnost vystupuje v naprosté většině v zakládající sestavě:Caine&nbsp\;- zpěv\, bicí /&nbsp\;Déma&nbsp\;- zpěv\, kytara /&nbsp\;Golda&nbsp\;- zpěv\, baskytara&nbsp\;Od svého založení Znouzectnost píše a na koncertech hraje výhradně vlastní repertoár\, mimo pár písní od Zastávky Mileč /u kterých jak hudba\, tak text - Déma/.V současné době se připravuje materál na novou desku.
LOCATION:Práče
END:VEVENT
END:VCALENDAR