BEGIN:VCALENDAR
VERSION:2.0
CALSCALE:GREGORIAN
PRODID:-//MyApp//Calendar 1.0//EN
BEGIN:VEVENT
METHOD:PUBLISH
UID:32359@regionalniportaly.cz
DTSTAMP:20260422T151644Z
DTSTART;VALUE=DATE:20230718
DTEND;VALUE=DATE:20230719
SUMMARY:BRASS AVENUE: Koncert na dřeň
DESCRIPTION:Součástí programu Hudebního festivalu Znojmo je vždy charitativní koncert na&nbsp\;podporu Nadace pro transplantace&nbsp\;kostní dřeně. Dechový showband Brass Avenue roztančí svými covery světových hitů každého! Žádné formální sezení na&nbsp\;podiu za&nbsp\;stojánky\, ale pořádná choreografická show\, která nemá na&nbsp\;české scéně obdoby. Žádný zpěv\, piano nebo elektrická kytara\, ale dechové nástroje. Žádný Bach či&nbsp\;Beethoven\, ale originální aranžmá nejznámějších světových hitů.&nbsp\;Účinkující:Brass Avenue:Martin Kozel - pozoun\,Martin Všechovský - tenor saxofon\,Miroslav Panuška - trumpeta\,Jakub Dvořák - baryton saxofon\,Martin Havelka - basová kytara\,Zdeněk Borecký - bicí
LOCATION:Dobšice
END:VEVENT
END:VCALENDAR