BEGIN:VCALENDAR
VERSION:2.0
CALSCALE:GREGORIAN
PRODID:-//MyApp//Calendar 1.0//EN
BEGIN:VEVENT
METHOD:PUBLISH
UID:32360@regionalniportaly.cz
DTSTAMP:20260422T152354Z
DTSTART;VALUE=DATE:20230730
DTEND;VALUE=DATE:20230731
SUMMARY:MELODY BOYS: Jazzové matiné
DESCRIPTION:Sólisté orchestru Melody Makers Ondřeje Havelky doprovodí svými tóny pohodové dopolední setkání s přáteli nad dobrým vínem a piknikovými košíky chutných dobrot v lůně nádherné přírody Národního parku Podyjí.&nbsp\;Účinkují:sólisté Melody Makers
LOCATION:Hnanice
END:VEVENT
END:VCALENDAR