BEGIN:VCALENDAR
VERSION:2.0
CALSCALE:GREGORIAN
PRODID:-//MyApp//Calendar 1.0//EN
BEGIN:VEVENT
METHOD:PUBLISH
UID:32391@regionalniportaly.cz
DTSTAMP:20260424T093823Z
DTSTART;VALUE=DATE:20230728
DTEND;VALUE=DATE:20230729
SUMMARY:Cimbál\, víno\, oslava
DESCRIPTION:Cimbálová muzika Petra Mičky a její výběr z folklóru horňáckého regionu\, oslava ve světě lidí vesnice minulého století\, kteří slavili každý den zpěvem.&nbsp\;Účinkující:Horňácká muzika Petra Mičky&nbsp\;Cimbálová muzika Antonína Stehlíka&nbsp\;
LOCATION:Znojmo
END:VEVENT
END:VCALENDAR