BEGIN:VCALENDAR
VERSION:2.0
CALSCALE:GREGORIAN
PRODID:-//MyApp//Calendar 1.0//EN
BEGIN:VEVENT
METHOD:PUBLISH
UID:32458@regionalniportaly.cz
DTSTAMP:20260422T175849Z
DTSTART;VALUE=DATE:20230714
DTEND;VALUE=DATE:20230715
SUMMARY:PAVEL ŠPORCL: Gratulační sonáty
DESCRIPTION:Zahajovací koncert festivalu:&nbsp\;Koncert bude věnován oslavným sonátám pro housle a klavír.Účinkují:Pavel ŠporclIgor ArdaševProgram:W.A.Mozart – Sonáta č. 306\, A dur - věnována princezně Maria ElisabethA. Dvořák – Sonatina op. 100 – věnováno Dvořákovo dětemC.Franck – Sonáta pro housle a klavír - věnováno E.Ysayovi&nbsp\;
LOCATION:Znojmo
END:VEVENT
END:VCALENDAR