BEGIN:VCALENDAR
VERSION:2.0
CALSCALE:GREGORIAN
PRODID:-//MyApp//Calendar 1.0//EN
BEGIN:VEVENT
METHOD:PUBLISH
UID:32459@regionalniportaly.cz
DTSTAMP:20260422T122936Z
DTSTART;VALUE=DATE:20230715
DTEND;VALUE=DATE:20230716
SUMMARY:WIHANOVO KVARTETO: Industriální koncert
DESCRIPTION:Jak zní klasická hudba v logistické hale?&nbsp\;Wihanovo kvarteto zahraje v unikátním akustickém prostoru betonové haly keramické továrny ve Znojmě oslavné skladby různých&nbsp\;autorů.&nbsp\;Účinkují:Jan Schulmeister - housle&nbsp\;Leoš Čepický - housle&nbsp\;Jakub Čepický - violaMichal Kanka - viloncello&nbsp\;
LOCATION:Znojmo
END:VEVENT
END:VCALENDAR