BEGIN:VCALENDAR
VERSION:2.0
CALSCALE:GREGORIAN
PRODID:-//MyApp//Calendar 1.0//EN
BEGIN:VEVENT
METHOD:PUBLISH
UID:32460@regionalniportaly.cz
DTSTAMP:20260422T164036Z
DTSTART;VALUE=DATE:20230729
DTEND;VALUE=DATE:20230730
SUMMARY:KONCERT PŘI SVÍČKÁCH: Oslava italského baroka
DESCRIPTION:Bohatost\, rozmanitost\, divokost\, virtuozita\, kontrasty. To vše se snoubí v programu koncertu na počest oslavy hudby italských mistrů. Repertoár obsahující díla flétnového\, violoncellového a především houslového repertoáru upraveného pro zobcovou flétnu\, je pomyslným ohňostrojem na počest italských virtuosů\, jakými byli Arcangelo Corelli\, Nicola Matteis\, Giovanni Benedetto Platti nebo Antonio Vivaldi.&nbsp\;Účinkující:Michaela Koudelková – zobcové flétnyLibor Mašek – barokní violoncelloJan Krejča – theorba\, barokní kytaraMonika Knoblochová – cembalo&nbsp\;
LOCATION:Znojmo
END:VEVENT
END:VCALENDAR