BEGIN:VCALENDAR
VERSION:2.0
CALSCALE:GREGORIAN
PRODID:-//MyApp//Calendar 1.0//EN
BEGIN:VEVENT
METHOD:PUBLISH
UID:32680@regionalniportaly.cz
DTSTAMP:20260422T110126Z
DTSTART;VALUE=DATE:20230430
DTEND;VALUE=DATE:20230501
SUMMARY:Znojmo vs. Bratislava
DESCRIPTION:Přijďte podopořit Knights v zápase&nbsp\;proti Bratislavským Monarchs!!!4. kolo nejvyšší České ligy amerického fotbalu se uskuteční na Znojemském stadionu již tuto neděli.GO Knights!!! Go Znojmo!!!#EverySecondCounts&nbsp\;
LOCATION:Znojmo
END:VEVENT
END:VCALENDAR