BEGIN:VCALENDAR
VERSION:2.0
CALSCALE:GREGORIAN
PRODID:-//MyApp//Calendar 1.0//EN
BEGIN:VEVENT
METHOD:PUBLISH
UID:32688@regionalniportaly.cz
DTSTAMP:20260422T111201Z
DTSTART;VALUE=DATE:20230719
DTEND;VALUE=DATE:20230720
SUMMARY:PAVEL ŠPORCL: Koncert uherčického zámku
DESCRIPTION:Zbrusu nový crossover projekt českého virtuóza vzniklý na objednávku festivalu za účasti jednoho z nejlepších amerických jazzových varhaníků nominovaného na cenu grammy Briana Charette. Pavel Šporcl spojil fantastické hráče\, především newyorčana Briana Charetta - hráče na Hammond organ\, jehož časopis DownBeat označuje za jednoho z nejlepších současných hráčů. Je nominován na USA Grammy Award a koncertuje a nahrává s takovými osobnostmi jako Paul Simon\, Joni Mitchell\, Chaka Khan\, Cyndi Lauper\, Michael Bublé\, John Patitucci\, Oz Noy nebo Vinnie Colaiuta.&nbsp\;Účinkující:Pavel Šporcl - housle&nbsp\;Brian Charette (US) - Hammond OrganAdam Tvrdý - kytaraOtto Hejnic - bicí&nbsp\;Odjezd autobusu od městského divadla&nbsp\;v 17:30 hodin.
LOCATION:Uherčice
END:VEVENT
END:VCALENDAR