BEGIN:VCALENDAR
VERSION:2.0
CALSCALE:GREGORIAN
PRODID:-//MyApp//Calendar 1.0//EN
BEGIN:VEVENT
METHOD:PUBLISH
UID:32755@regionalniportaly.cz
DTSTAMP:20260422T094932Z
DTSTART;VALUE=DATE:20230507
DTEND;VALUE=DATE:20230508
SUMMARY:Knights vs. Alligators
DESCRIPTION:Přijďte podopořit Knights v domácím zápase s podtitulem "Legends"&nbsp\;proti Brněnským&nbsp\;Alligators!!!Tento zápas bude vysílán v TV! Potřebujeme Vás všechny! Rozšířená Fun zone od 13:30! Dojdi v merchi Knights.5. kolo nejvyšší České ligy amerického fotbalu se uskuteční na Znojemském stadionu v&nbsp\;neděli 7.5.První společný zápas v Brně jsme prohráli a máme Brnu co vracet!&nbsp\;GO Knights!!! Go Znojmo!!!#EverySecondCounts&nbsp\;&nbsp\;
LOCATION:Znojmo
END:VEVENT
END:VCALENDAR