BEGIN:VCALENDAR
VERSION:2.0
CALSCALE:GREGORIAN
PRODID:-//MyApp//Calendar 1.0//EN
BEGIN:VEVENT
METHOD:PUBLISH
UID:32896@regionalniportaly.cz
DTSTAMP:20260422T110909Z
DTSTART;VALUE=DATE:20230724
DTEND;VALUE=DATE:20230725
SUMMARY:METASTASIO: Myslivečkova oslava největšího z básníků
DESCRIPTION:Největší libretista dějin jezdil na dovolenou na zámek Vranov nad Dyjí. V letošním ročníku uctíme a oslavíme tohoto velikána díky českým operním hvězdám Kateřině Kněžíkové a Jarmile Vantuchové společně s orchestrem L´Armonia Terrena pod vedením Zdeňka Klaudy.Účinkující:Kateřina Kněžíková - soloJarmila Vantuchová - soloAl-Ashhab - housle&nbsp\;Jaroslav Pelikán - flétnaL´Armonia Terrena pod vedením Zdeňka Klaudy&nbsp\;Odjezd autobusu od městského divadla&nbsp\;v 17:30 hodin.
LOCATION:Vranov nad Dyjí
END:VEVENT
END:VCALENDAR