BEGIN:VCALENDAR
VERSION:2.0
CALSCALE:GREGORIAN
PRODID:-//MyApp//Calendar 1.0//EN
BEGIN:VEVENT
METHOD:PUBLISH
UID:32932@regionalniportaly.cz
DTSTAMP:20260422T122946Z
DTSTART;VALUE=DATE:20230715
DTEND;VALUE=DATE:20230716
SUMMARY:KONCERT PŘI SVÍČKÁCH I: Americká oslava českých autorů
DESCRIPTION:Mezinárodní soubor Ensemble Fantasmi se specializuje na repertoár ze 17. a 18. století napsaný pro komorní barokní orchestr. Soubor Fantasmi s velkou oblibou posluchačům představuje neznámé vokální a instrumentální skvosty. Barokní soubor Fantasmi uvádí novou generaci specialistů na starou hudbu\, kteří byli vybráni z předních univerzit a hudebních institucí jak z Evropy\, tak i USA. Premiéroval také řadu barokních děl\, jejichž rukopisy se nacházejí v hudebních knihovnách v Uppsale\, Drážďanech\, Bruselu a Kroměříži. Členové souboru vystoupili na mnoha různých scénách.&nbsp\;Účinkují:Ensemble FantasmiKarim Ayala Pool – barokní housleAnnie Barnette – barokní houslePolly Klein – barokní housleRJ McDowell – barokní violaNicolas Valencia – barokní violaSydney ZumMallen – barokní violoncelloJosue Reyes – kontrabasJiyoung Kim – cembalo a varhanyPaul Leenhouts – zobcová flétna a dirigent
LOCATION:Znojmo
END:VEVENT
END:VCALENDAR