BEGIN:VCALENDAR
VERSION:2.0
CALSCALE:GREGORIAN
PRODID:-//MyApp//Calendar 1.0//EN
BEGIN:VEVENT
METHOD:PUBLISH
UID:32949@regionalniportaly.cz
DTSTAMP:20260422T133210Z
DTSTART;VALUE=DATE:20230716
DTEND;VALUE=DATE:20230717
SUMMARY:Koncert znojemských hudebníků
DESCRIPTION:Koncert Znojemského&nbsp\;komorního orchestru a hostů z českého příhraničí&nbsp\;pod uměleckým vedením&nbsp\;Gabriely Tardonové je zasazen&nbsp\;do prostor bývalé celnice.Účinkují:Znojemský komorní orchestrLeo DvořákRomana Kružíková
LOCATION:Znojmo
END:VEVENT
END:VCALENDAR