BEGIN:VCALENDAR
VERSION:2.0
CALSCALE:GREGORIAN
PRODID:-//MyApp//Calendar 1.0//EN
BEGIN:VEVENT
METHOD:PUBLISH
UID:32983@regionalniportaly.cz
DTSTAMP:20260422T110816Z
DTSTART;VALUE=DATE:20230721
DTEND;VALUE=DATE:20230722
SUMMARY:IL GIARDINO ARMONICO: Barokní afekty
DESCRIPTION:Italský hudební ansámbl založený v&nbsp\;Miláně 1985 vystoupí pod&nbsp\;taktovkou dirigenta Giovanni Antonini. Dnes se&nbsp\;řadí k&nbsp\;předním světovým hudebním souborům. Skládá se&nbsp\;z až 35 hudebníků\, kteří hrají na&nbsp\;originální a&nbsp\;dobové nástroje. Orchestr se&nbsp\;zaměřuje na&nbsp\;interpretaci hudby 17. a&nbsp\;18. století\, nahrál již 39 desek a&nbsp\;pyšní se&nbsp\;řadou ocenění včetně ceny Grammy. Ve&nbsp\;Znojmě vystoupí podruhé. Poprvé vystoupili v&nbsp\;roce 2018.Účinkující:Il Giardino Armonicodirigent Giovanni AntoniniProgram:A. Vivaldi: Concerto for strings and b.c in e minor\, RV 134 (1678-1741) Allegro\, Andante\, Allegro Concerto in b minor for four violins\, cello\, strings and b.c.\, RV 580 Giovanni Sollima “So” for Piri\, strings and b.c. (1962)P.A. Locatelli: Concerto grosso op VII n. 6 n. “Il Pianto di Arianna” (1695-1764) Isang Yun “The Actor with the Monkey” from “Chinese pictures” (1993) for solo recorder (1917-1995)A. Vivaldi: Concerto for flautino in C major\, RV 443A. Vivaldi: Sinfonia in b minor\, RV 169\, Al Santo Sepolcro “Cum dederit” from Nisi Dominus transcription for chalumeau\, strings and b.c.G. F. Handel: Concerto grosso op. VI n. 3 in e minor (1685-1759) Isang Yun “The Shepherd’s Flute” from “Chinese Pictures” (1993) 4’30 (1917-1995) for solo recorderA. Vivaldi: Concerto in e flat major\, RV 253\, “La tempesta di mare” for violin\, strings and b.c
LOCATION:Znojmo
END:VEVENT
END:VCALENDAR