BEGIN:VCALENDAR
VERSION:2.0
CALSCALE:GREGORIAN
PRODID:-//MyApp//Calendar 1.0//EN
BEGIN:VEVENT
METHOD:PUBLISH
UID:33109@regionalniportaly.cz
DTSTAMP:20260422T094942Z
DTSTART;VALUE=DATE:20230521
DTEND;VALUE=DATE:20230522
SUMMARY:Knights vs. Steelers
DESCRIPTION:Do Znojma zavítá tým s nejlepší obranou v lize. Tým\, který absolutně dominuje a jeho ocelová obrana zatím pustila v této sezóně pouze jeden touchdown. Ostravští Steelers zatím válcují celou ligu. Knights se jim postaví v neděli&nbsp\;21.5.&nbsp\;od 15:00. Fun Zone&nbsp\;se otevírá v 13:30. Přijďte podpořit Knights v boji s ocelovými muži.&nbsp\;Go Knights!!! Go Znojmo!!!#EverySecondCounts
LOCATION:Znojmo
END:VEVENT
END:VCALENDAR