BEGIN:VCALENDAR
VERSION:2.0
CALSCALE:GREGORIAN
PRODID:-//MyApp//Calendar 1.0//EN
BEGIN:VEVENT
METHOD:PUBLISH
UID:33123@regionalniportaly.cz
DTSTAMP:20260422T175615Z
DTSTART;VALUE=DATE:20230730
DTEND;VALUE=DATE:20230731
SUMMARY:Koncert ze znojemských archivů
DESCRIPTION:Capella Sebastiana je projektový ensemble založený pro provádění děl ze znojemských archivů pojmenovaný po významné osobnosti opatu Šebestiánovi Freytagovi z Čepiroh.Při bádání ve Znojemských hudebních dějinách se podařilo objevit doktoru E. Tomaštíkovi\, (který byl festivalem touto prací pověřen)\, obrovské objednávky městské rady znojemské v 16. století\, která kupovala prvotisky nejlepších skladatelů té doby pro provádění hudební liturgie ve znojemských chrámech. Z těchto děl vybral pro letošní festival dva tituly.&nbsp\;Účinkují:Capella Sebastiana\, kapelník Čeněk Svoboda&nbsp\;
LOCATION:Znojmo
END:VEVENT
END:VCALENDAR