BEGIN:VCALENDAR
VERSION:2.0
CALSCALE:GREGORIAN
PRODID:-//MyApp//Calendar 1.0//EN
BEGIN:VEVENT
METHOD:PUBLISH
UID:33124@regionalniportaly.cz
DTSTAMP:20260422T123100Z
DTSTART;VALUE=DATE:20230722
DTEND;VALUE=DATE:20230723
SUMMARY:Tour de Varhany
DESCRIPTION:Nejstarší původní varhany na Moravě v Louce ve Znojmě\, barokní varhany v Pulkau a varhany v Dominikánském klášteře v Retzu\, se stanou svědky dialogu českého varhaníka a rakouské varhanice.Zajímavost: varhany v Louce i v Dominikánském kostele v Retzu budoval stejný varhanář Iganz KasparidesSe svými improvizacemi a varhanním dialogem vystoupí dva přední interpreti české a rakouské varhanní školy. Projekt začíná kultovním nástrojem&nbsp\;v Louce a publikum má zajištěnou dopravu na všechny následující koncerty s odborným výkladem ke všem nástrojům. Program je připravován oběma interprety na dramaturgické téma festivalu.&nbsp\;11:00 kostel Nanebevzetí Panny Marie a svatého Václava\, Znojmo-Louka13:30 Katolický kostel sv. Michala\, Pulkau15:00 Dominikánský kostel Nanebevzetí Panny Marie\, Retz&nbsp\;Účinkují:Ondřej Múčka a Innes Schittengruber&nbsp\;
LOCATION:Znojmo
END:VEVENT
END:VCALENDAR