BEGIN:VCALENDAR
VERSION:2.0
CALSCALE:GREGORIAN
PRODID:-//MyApp//Calendar 1.0//EN
BEGIN:VEVENT
METHOD:PUBLISH
UID:33136@regionalniportaly.cz
DTSTAMP:20260422T073839Z
DTSTART;VALUE=DATE:20230602
DTEND;VALUE=DATE:20230603
SUMMARY:Bulín - taneční - TANČÍRNA
DESCRIPTION:Absolvovali jste taneční kurz společenských tanců\, ale neměli jste si možnost jednotlivé tance protančit? Od toho je naše tančírna.V rámci 2 hodinové akce si zatančíte všechny společenské tance\, které se v tanečních kurzech&nbsp\;standardně&nbsp\;vyučují a v případě nejasností bude nablízku zkušený pár lektrorů\, aby Vám byl s čímkoli nápomocen.Zpestřete si letní měsíce příjemným posezením s přáteli s pestrou taneční hudbou a utužte svůj partnerský vztah v tanečním objetí.Srdečně Vás tímto na naši tančírnu zveme!manželé Bulínovi
LOCATION:Hrušovany nad Jevišovkou
END:VEVENT
END:VCALENDAR