BEGIN:VCALENDAR
VERSION:2.0
CALSCALE:GREGORIAN
PRODID:-//MyApp//Calendar 1.0//EN
BEGIN:VEVENT
METHOD:PUBLISH
UID:33424@regionalniportaly.cz
DTSTAMP:20260422T110917Z
DTSTART;VALUE=DATE:20230624
DTEND;VALUE=DATE:20230625
SUMMARY:Hnanická vinná stezka po vínicich v NP Podyji
DESCRIPTION:Pro návštěvníky sedmého ročníku „Hnanické vinné stezky bude připraveno 17 degustačních zastávek Hnanických vinařů a bohatý vinařský a kulturní program spojený s degustacemi a prohlídkou Hnanických vinic a místních soukromých sklepů. Návštěvníci se na vinné stezce vedoucí přes významné viniční tratě obce Hnanice seznámí s víny\, která budou přímo ve vinicích prezentovat místní vinaři\, kteří zároveň hosty seznámí se základními tématy vinohradnictví a vinařství\, přiblíží tak i názorně Hnanický terroir – souznění vinic s přírodou Národního parku Podyjí.&nbsp\;Vinařská stezka bude zakončena ve Sklepní uličce v Hnanicích\, kde bude možné posedět a ochutnat vína ve sklípcích jednotlivých vinařů. Odpoledne&nbsp\; od 17&nbsp\; - 22 hodin bude vystoupení Dana Krhuta alias DANTESO - one music man
LOCATION:Hnanice
END:VEVENT
END:VCALENDAR