BEGIN:VCALENDAR
VERSION:2.0
CALSCALE:GREGORIAN
PRODID:-//MyApp//Calendar 1.0//EN
BEGIN:VEVENT
METHOD:PUBLISH
UID:33456@regionalniportaly.cz
DTSTAMP:20260422T110027Z
DTSTART;VALUE=DATE:20230716
DTEND;VALUE=DATE:20230717
SUMMARY:Pri kase
DESCRIPTION:Komedie jednoho herce z&nbsp\;prostředí supermarketů\, hypermarketů\, megamarketů a&nbsp\;gigamarketů. Parodie na dnešní konzumní společnost vychází jak z&nbsp\;reálného\, tak absurdního základu. Autorská směs stand-up comedy a pohybového herectví ze světa obchodu\, bez jehož návštěvy si pomalu neumíme představit ani den.Komedie získala Cenu diváka na mezinárodním festivalu netradičních divadel Kopřiva 2017.
LOCATION:Bítov
END:VEVENT
END:VCALENDAR