BEGIN:VCALENDAR
VERSION:2.0
CALSCALE:GREGORIAN
PRODID:-//MyApp//Calendar 1.0//EN
BEGIN:VEVENT
METHOD:PUBLISH
UID:33457@regionalniportaly.cz
DTSTAMP:20260422T154115Z
DTSTART;VALUE=DATE:20230813
DTEND;VALUE=DATE:20230814
SUMMARY:Milan Peroutka & Perutě
DESCRIPTION:A máme tu další hvězdu na "Hvězdičce". Tentokrát na pódiu zazáří Milan Peroutka se svou kapelou Perutě. Na koncertu zazní nejen jejich nejlepší skladby\, ale i kousky z nového alba Abrakadabra\, které vyšlo koncem roku 2022. To pluje na vlnách inspirovaných tvorbou 80-tých let\, sází na moderní zvuk\, podmanivé melodie a melancholické texty\, které jsou osobní zpovědí zpěváka. Nenechte si ujít&nbsp\; tento jedinečný koncert Milana Peroutky a kapely Perutě pod širým nebem v zahradním areálu Hotelu Bítov.
LOCATION:Bítov
END:VEVENT
END:VCALENDAR