BEGIN:VCALENDAR
VERSION:2.0
CALSCALE:GREGORIAN
PRODID:-//MyApp//Calendar 1.0//EN
BEGIN:VEVENT
METHOD:PUBLISH
UID:33519@regionalniportaly.cz
DTSTAMP:20260422T162839Z
DTSTART;VALUE=DATE:20230611
DTEND;VALUE=DATE:20230612
SUMMARY:Knights vs. Gladiators
DESCRIPTION:Poslední domácí zápas proti jednomu z největších favoritů ligy Vysočina Gladiators. ⚔️Přijďte nás podpořit\, přijďte si užít poslední 💥KNIGHTS SHOW 💥tohoto roku! I když jsme stále na postupové příčce s možným postupem na play-off. Víme jistě\, že toto bude poslední domácí zapas roku 2023 a proto jsme také vybrali jako podtitul zápasu “Last Dance” 🕺🏼! Legendární hráč amerického fotbalu Josef Houška #66 nastoupí na svůj poslední zápas. GO Knights!!! GO Znojmo!!!
LOCATION:Znojmo
END:VEVENT
END:VCALENDAR