BEGIN:VCALENDAR
VERSION:2.0
CALSCALE:GREGORIAN
PRODID:-//MyApp//Calendar 1.0//EN
BEGIN:VEVENT
METHOD:PUBLISH
UID:33620@regionalniportaly.cz
DTSTAMP:20260422T123014Z
DTSTART;VALUE=DATE:20230927
DTEND;VALUE=DATE:20230928
SUMMARY:Matka jako životní lekce
DESCRIPTION:VÁŽENÍ PŘÁTELÉ\, AKCE JE VYPRODANÁ.NA MÍSTĚ BUDE MOŽNÉ ZAKOUPIT JIŽ CCA 20 LÍSTKŮ.REZERVACE LÍSTKŮ NA MÍSTĚ: 602550590DĚKUJEME ZA ZÁJEMMilí přáteléakce je naplánovaná na 27.9.2023\, 17:00 - 20:00 hod.&nbsp\;Setkáme se v hradebním prostoru u Rotundy sv. Kateřiny. V předvečer dne sv. Václava a s výhledem na Kapli sv. Václava ve Znojmě Vám nabízíme úžasné spojení Pjéra a Ondry\, mluveného slova a zvuků didgeridoo\, gongu a kytary v improvizaci obou pánů.Bude-li nám přát počasí\, necháme celou akci pod širým nebem. V druhém případě nám MÚ bezúplatně zapůjčil prostory Císařského sálu\, protože celá akce má charitativní podtext. Po zaplacení všech nákladů bude případný zisk věnován tam\, kde je třeba...a možná právě dětem\, kterým máma chybí.Jako poděkování za Váš zájem připravujeme raut z dílny šikovných lidí našeho regionu a postupně je budeme představovat na FB: https://www.facebook.com/groups/6298419526942234Děkujeme za zájem.V případě\, že Vás budou doprovázet děti\, tak děti do 12 let zdarma. O děti se postaráme\, zabavíme\, ale nárok na sedadlo mají pouze platící diváci. Děkujeme za pochopení.
LOCATION:Znojmo
END:VEVENT
END:VCALENDAR