BEGIN:VCALENDAR
VERSION:2.0
CALSCALE:GREGORIAN
PRODID:-//MyApp//Calendar 1.0//EN
BEGIN:VEVENT
METHOD:PUBLISH
UID:33691@regionalniportaly.cz
DTSTAMP:20260422T163513Z
DTSTART;VALUE=DATE:20230728
DTEND;VALUE=DATE:20230729
SUMMARY:Šramlfest 2023
DESCRIPTION:Znojemský festival alternativní hudby\, divadla a výtvarného umění16. ročníkve Znojmě na KářePátekŠumafuk&nbsp\;15:00Zapaska / UKR&nbsp\;16:00B4 / CZ&nbsp\;18:00Black River Delta / SWE&nbsp\;20:00Honeyfeet / UK&nbsp\;22:00Sobota15:00&nbsp\;Mikro Teatro16:00&nbsp\;Chora Sfakion / CZ18:00&nbsp\;Krajina Ró / CZ20:00&nbsp\;WWW Neurobeat / CZ22:00&nbsp\;LBT / DE
LOCATION:Znojmo
END:VEVENT
END:VCALENDAR