BEGIN:VCALENDAR
VERSION:2.0
CALSCALE:GREGORIAN
PRODID:-//MyApp//Calendar 1.0//EN
BEGIN:VEVENT
METHOD:PUBLISH
UID:33707@regionalniportaly.cz
DTSTAMP:20260422T110950Z
DTSTART;VALUE=DATE:20230726
DTEND;VALUE=DATE:20230727
SUMMARY:CZECH ENSEMBLE BAROQUE: Oslava vody II.
DESCRIPTION:Koncert v Národním Parku Podyjí v nádherné scenérii žulového lomu v Mašovicích. Unikátní projekt orchestru na plovoucím pontonu\, obklopeném diváky na pramicích a na tribunách zbudovaných na útesech.
LOCATION:Mašovice
END:VEVENT
END:VCALENDAR