BEGIN:VCALENDAR
VERSION:2.0
CALSCALE:GREGORIAN
PRODID:-//MyApp//Calendar 1.0//EN
BEGIN:VEVENT
METHOD:PUBLISH
UID:33999@regionalniportaly.cz
DTSTAMP:20260422T111216Z
DTSTART;VALUE=DATE:20230722
DTEND;VALUE=DATE:20230723
SUMMARY:Výlet s festivalovými víny
DESCRIPTION:Putovní degustace pod vedením viceprezidenta Asociace sommelierů ČR Františka Koudely vás zavede na tři úžasná místa spojená s&nbsp\;vinařskou turistikou na Znojemsku:sklepní ulička ve&nbsp\;Chvalovicích&nbsp\;Vinařská stodola U Stehlíků v&nbsp\;Novém Šaldorfě aVinařství THAYA v&nbsp\;Havraníkách.Těšte se na ochutnávku kompletní festivalové edice 25 vzorků vín a jejich snoubení s&nbsp\;jídlem.Odjezd autobusu v&nbsp\;15:00 od Městského divadla Znojmo
LOCATION:Znojmo
END:VEVENT
END:VCALENDAR