BEGIN:VCALENDAR
VERSION:2.0
CALSCALE:GREGORIAN
PRODID:-//MyApp//Calendar 1.0//EN
BEGIN:VEVENT
METHOD:PUBLISH
UID:34227@regionalniportaly.cz
DTSTAMP:20260422T052823Z
DTSTART;VALUE=DATE:20230903
DTEND;VALUE=DATE:20230904
SUMMARY:MUZIKA POD DUBEM
DESCRIPTION:Lovecká chata Myslivna Vás zve na akci MUZIKA POD DUBEM. Přijeďte se dobře pobavit\, zatančit si\, zazpívat si a dát si něco dobrého k jídlu a pití.&nbsp\;To vše na úžasném místě uprostřed krásné přírody na samotě u lesa. Připravili jsme pro Vás bohatý program vč. soutěže a tomboly. Občerstvení\, ochutnávka vín&nbsp\;a místa k sezení - zajištěno. Skákací hrad\, paintball na terče.&nbsp\;Na Myslivně vystoupí:HONZA MLČOCH &nbsp\;s písněmi Karla Gotta &nbsp\; &nbsp\;www.karelgott-cover.czDechovka ŠOHAJI &nbsp\; sohaji.wbs.czZnojemské GRÁCIE &nbsp\; &nbsp\;&nbsp\;znojemske-gracie.webnode.czHUŠKOVI - zpěv\,&nbsp\;hra na akordeonNa akci proběhne 1. ročník soutěže o NEJLEPŠÍ KOLÁČ. Přihlášky prosím posílejte na email: daba.myslivna@gmail.com.&nbsp\;Degustační komise bude hodnotit na škále 1 – 10 (1 = nejhorší\, 10 = nejlepší).&nbsp\;Bude se hodnotit: CHUŤ\, BAREVNOST\, ZDOBENÍ\, VŮNĚ A TECHNICKÁ NÁROČNOST.Vstupné v předprodeji Kč 200\,-\, na místě Kč 300\,-. Děti do 15 let zdarma.DOPRAVA ZDARMA - jízdní řád autobusu zde v přiložených fotografiích.Těšíme se na Vás!Myslivna Hrušovany n. J.Litobratřická 789\, 671 67 Hrušovany n. J.www.daba.cz&nbsp\;&nbsp\;&nbsp\;&nbsp\;
LOCATION:Hrušovany nad Jevišovkou
END:VEVENT
END:VCALENDAR