BEGIN:VCALENDAR
VERSION:2.0
CALSCALE:GREGORIAN
PRODID:-//MyApp//Calendar 1.0//EN
BEGIN:VEVENT
METHOD:PUBLISH
UID:35074@regionalniportaly.cz
DTSTAMP:20260422T123943Z
DTSTART;VALUE=DATE:20231119
DTEND;VALUE=DATE:20231120
SUMMARY:PÁRTY PRO DĚTI | Ve stylu ledového království | ZNOJMO
DESCRIPTION:Oblíbená dětská párty ve stylu Ledového království ve Znojmě s pohádkovým programem! Tento den bude patřit všem dětem!&nbsp\;Čeká vás taneční program\,&nbsp\;hudba z pohádek\, malování na obličej a hned několik pohádkových postaviček\, které vaše děti milují&nbsp\;&nbsp\;a se kterými se budou moci i vyfotit.&nbsp\;Nejen\, že si zazpívají s Elsou\, Annou a Oláfkem\, ale i si zatančí na dětském discu se Šmoulama a těm nejhodnějším dá Mimoň i nějaké sladkosti.PRO DĚTI:- Diskotéka a tancování s postavičkami- Oblíbené pohádkové postavičky- Malování na obličej- Focení s maskotyPROGRAM: 15:00 Otevření prostoru\, 15:30 Hlavní program\, 16:30 Fotoautogamiáda \, 17:30 KonecDěti do 2 let (tzn. 24 měsíců) zdarma bez vstupenky\, každý jiný návštěvník musí mít platnou vstupenku\, cena vstupenek je shodná pro děti i dospělé.Tým HappyKid!&nbsp\;
LOCATION:Znojmo
END:VEVENT
END:VCALENDAR