BEGIN:VCALENDAR
VERSION:2.0
CALSCALE:GREGORIAN
PRODID:-//MyApp//Calendar 1.0//EN
BEGIN:VEVENT
METHOD:PUBLISH
UID:35098@regionalniportaly.cz
DTSTAMP:20260422T110933Z
DTSTART;VALUE=DATE:20231012
DTEND;VALUE=DATE:20231013
SUMMARY:Držení těla jako příčina a následek sportovních zranění
DESCRIPTION:Rodiče\, trenéři a sportovní pedagogové! Zajímá vás zdravý pohyb vašich dětí? Přihlaste se na přednášku s profesorem Pavlem Kolářem\, který je celosvětovou kapacitou ve sportovní fyziologii.Na přednášce se dozvíte:Proč je pohyb důležitý při celkovém rozvoji dítěte.Jak může správné držení těla pomoci předcházet řadu zranění.Jaký vliv má držení těla na techniku pohybu.Jak fungují základní pohybové stereotypy.Uvidíte přehled základních posturálních stereotypů\, jejich analýzu a postupy pro jejich korekci.Na akci jsou vítáni všichni\, kteří se zajímají o zdravý pohyb.
LOCATION:Znojmo
END:VEVENT
END:VCALENDAR