BEGIN:VCALENDAR
VERSION:2.0
CALSCALE:GREGORIAN
PRODID:-//MyApp//Calendar 1.0//EN
BEGIN:VEVENT
METHOD:PUBLISH
UID:35588@regionalniportaly.cz
DTSTAMP:20260422T110008Z
DTSTART;VALUE=DATE:20231003
DTEND;VALUE=DATE:20231004
SUMMARY:Josef Klíma
DESCRIPTION:Beseda s investigativním novinářem\, spisovatelem\, televizním reportérem a scénáristou.
LOCATION:Znojmo
END:VEVENT
END:VCALENDAR