BEGIN:VCALENDAR
VERSION:2.0
CALSCALE:GREGORIAN
PRODID:-//MyApp//Calendar 1.0//EN
BEGIN:VEVENT
METHOD:PUBLISH
UID:35589@regionalniportaly.cz
DTSTAMP:20260422T110146Z
DTSTART;VALUE=DATE:20231019
DTEND;VALUE=DATE:20231020
SUMMARY:Patrola Šlapeto - koncert
DESCRIPTION:Patrola Šlapeto je populární staropražská kapela\,&nbsp\;věnující se interpretaci nejslavnějších hospodských písní minulých století a převážné&nbsp\;části repertoáru génia české písničky Karla Hašlera. Skupinu Patrola Šlapeto založili v roce 2001 Radan Dolejš (dlouholetý šéf legendárního Šlapeta) a Karel Hoza (dlouholetý šéf Pražského pouťového promenádního orchestru).
LOCATION:Znojmo
END:VEVENT
END:VCALENDAR