BEGIN:VCALENDAR
VERSION:2.0
CALSCALE:GREGORIAN
PRODID:-//MyApp//Calendar 1.0//EN
BEGIN:VEVENT
METHOD:PUBLISH
UID:35591@regionalniportaly.cz
DTSTAMP:20260422T110211Z
DTSTART;VALUE=DATE:20231110
DTEND;VALUE=DATE:20231111
SUMMARY:Martina Preissová
DESCRIPTION:Beseda s populární herečkou\, znojemskou rodačkou Martinou Preissovou.
LOCATION:Znojmo
END:VEVENT
END:VCALENDAR