BEGIN:VCALENDAR
VERSION:2.0
CALSCALE:GREGORIAN
PRODID:-//MyApp//Calendar 1.0//EN
BEGIN:VEVENT
METHOD:PUBLISH
UID:35592@regionalniportaly.cz
DTSTAMP:20260422T151934Z
DTSTART;VALUE=DATE:20231130
DTEND;VALUE=DATE:20231201
SUMMARY:Jitka Schneiderová
DESCRIPTION:Beseda s populární herečkou\, znojemskou rodačkou Jitkou Schneiderovou.
LOCATION:Znojmo
END:VEVENT
END:VCALENDAR