BEGIN:VCALENDAR
VERSION:2.0
CALSCALE:GREGORIAN
PRODID:-//MyApp//Calendar 1.0//EN
BEGIN:VEVENT
METHOD:PUBLISH
UID:35632@regionalniportaly.cz
DTSTAMP:20260422T152344Z
DTSTART;VALUE=DATE:20231103
DTEND;VALUE=DATE:20231104
SUMMARY:BENEFIČNÍ MÓDNÍ PŘEHLÍDKA
DESCRIPTION:Znojemský Ateliér Ivety Hlobilové a Studio HENRIQUEZ Ostrava Vás ve spolupráci s Jihomoravským muzeem ve Znojmě srdečně zvou do historických prostor Znojemského hradu na benefiční MÓDNÍ PŘEHLÍDKU pořádanou na podporu Nadace pro \ntransplantace kostní dřeně.\n\nAKCE SE KONÁ POD ZÁŠTITOU MĚSTA ZNOJMA.\n\n\nNA CO SE MŮŽETE TĚŠIT?\n\n\n* portugalskou módu značek SCRIPTA a CRISTINA BARROS\n* české autorské šperky a doplňky z Ateliéru Ivety Hlobilové\n* italské brýle KLEYES \n* parfémy CHOGAN\n\n\nRecitál písničkářky TEREZY HOLUBOVÉ.\n\n\nVečerem Vás provede herec FILIP TELLER.\n\n\nNebude chybět:\nWelkome drink * malé občerstvení * víno Vinařství NEŠETŘIL * překvapení\n\nNa přehlídku navazuje v sobotu 4.11. od 13:00 hodin v podkroví Althanského paláce ve Znojmě Benefiční odpoledne pro ženy se zajímavým programem.\n\n* Na mistě bude možné si prohlédnout a vyzkoušet všechny přehlídkové modely\, šperky a doplňky.\n* Ateliér Ivety Hlobilové představí novou kolekci šperků\n*S problémy s vlasy poradí odbornice z Vlasové kliniky \n* Nebude chybět zajímavé povidaní o parfémech a  parfémářský workshop.
LOCATION:Znojmo
END:VEVENT
END:VCALENDAR