BEGIN:VCALENDAR
VERSION:2.0
CALSCALE:GREGORIAN
PRODID:-//MyApp//Calendar 1.0//EN
BEGIN:VEVENT
METHOD:PUBLISH
UID:36491@regionalniportaly.cz
DTSTAMP:20260422T153635Z
DTSTART;VALUE=DATE:20240406
DTEND;VALUE=DATE:20240407
SUMMARY:TRAUTENBERK - Šťastných 13
DESCRIPTION:Šťastných 13\, čili třinácté Trautenberkovo tažení podzimem\, zimou i jarem za účelem rozsévání štěstí.TRAUTENBERKVeselou písní a bujarým skotačením zaženeme vaše chmury.Tak přijď přiložit nožku k tanci\, ať je i tvůj život šťastný!&nbsp\;#ČERNÁStylově se kapela pohybuje mezi Rammstein\, 30 Seconds To Mars a Depeche Mode. Ano\, je to velký rozptyl\, ale to vše na domácí rokové scéně chybí!&nbsp\;OCELOTČeská metalová skupina\, hrající svůj vlastní styl říznutý rock n´ rollem. Kapela účinkuje na motocyklových srazech\, festivalech\, koncertech různého druhu. Veškerá tvorba je původní\, podobnost s Motorhead čistě náhodná.
LOCATION:Práče
END:VEVENT
END:VCALENDAR