BEGIN:VCALENDAR
VERSION:2.0
CALSCALE:GREGORIAN
PRODID:-//MyApp//Calendar 1.0//EN
BEGIN:VEVENT
METHOD:PUBLISH
UID:36621@regionalniportaly.cz
DTSTAMP:20260422T180204Z
DTSTART;VALUE=DATE:20240117
DTEND;VALUE=DATE:20240118
SUMMARY:Big Man James Trio (IT)
DESCRIPTION:BIG MAN JAMES TRIO (IT) - Poprvé v Česku! Italská bluesrocková kapela\, kterou tvoří Big Man James (Giacomo Cassoni) zpěv a kytara\, Little B (Michele Zanoni) basová kytara a Emanuele Corbellini na bicí. Kapela hrála na různých důležitých bluesových festivalech a jako předkapela velkých hvězd. Finalisté Italian Blues Challenge.
LOCATION:Znojmo
END:VEVENT
END:VCALENDAR