BEGIN:VCALENDAR
VERSION:2.0
CALSCALE:GREGORIAN
PRODID:-//MyApp//Calendar 1.0//EN
BEGIN:VEVENT
METHOD:PUBLISH
UID:36671@regionalniportaly.cz
DTSTAMP:20260422T135452Z
DTSTART;VALUE=DATE:20240216
DTEND;VALUE=DATE:20240217
SUMMARY:Štěpán Markovič Gipsy Groove (CZ)
DESCRIPTION:Jeden z&nbsp\;nejvýraznějších českých jazzmanů Štěpán Markovič (saxofon) v&nbsp\;doprovodu fenomenální funky kapely Gipsy Groove (rytmika z&nbsp\;Gulo Čar).&nbsp\;
LOCATION:Znojmo
END:VEVENT
END:VCALENDAR