BEGIN:VCALENDAR
VERSION:2.0
CALSCALE:GREGORIAN
PRODID:-//MyApp//Calendar 1.0//EN
BEGIN:VEVENT
METHOD:PUBLISH
UID:36722@regionalniportaly.cz
DTSTAMP:20260422T134827Z
DTSTART;VALUE=DATE:20240221
DTEND;VALUE=DATE:20240222
SUMMARY:Big Dez (FR)
DESCRIPTION:Styl pařížské kapely „Big Dez“ je elektrický blues smíšený s humorem a melancholií\, silně propojený s funky\, soulem a rock and rollem. Přední francouzská kapela přijíždí poprvé do Československa. Za sebou mají 8 alb\, reprezentaci své rodné země v „Blues Challange“ v Mephisu a nesčetné množství odehraných show po celé Evropě...Více zde: https://www.lachout.com/products/big-dez-blues-rock-fr/
LOCATION:Znojmo
END:VEVENT
END:VCALENDAR