BEGIN:VCALENDAR
VERSION:2.0
CALSCALE:GREGORIAN
PRODID:-//MyApp//Calendar 1.0//EN
BEGIN:VEVENT
METHOD:PUBLISH
UID:36723@regionalniportaly.cz
DTSTAMP:20260422T122901Z
DTSTART;VALUE=DATE:20240316
DTEND;VALUE=DATE:20240317
SUMMARY:Big Wolf Band (UK)
DESCRIPTION:Britská kapela Big Wolf Band se skutečně rychle zařadila mezi uznávané skupiny rockového a bluesového žánru. Debutové album „Rebel´s Story“ se stalo bestsellerem v bluesové kategorii Amazonu a iTunes Top 20.https://www.bigwolfband.com/
LOCATION:Znojmo
END:VEVENT
END:VCALENDAR