BEGIN:VCALENDAR
VERSION:2.0
CALSCALE:GREGORIAN
PRODID:-//MyApp//Calendar 1.0//EN
BEGIN:VEVENT
METHOD:PUBLISH
UID:36724@regionalniportaly.cz
DTSTAMP:20260422T122121Z
DTSTART;VALUE=DATE:20240229
DTEND;VALUE=DATE:20240301
SUMMARY:The Black Hole (US)
DESCRIPTION:V rámci evropského turné podruhé v Česku! The Black Hole vznikli v roce 2012 jako koncertní a nahrávací kapela mezinárodní bluesové ikony Carvina Jonese. Za dobu svého trvání spolupracovali s nejlepšími bluesovými umělci z celého světa\, odehráli přes 3000 vystoupení ve 43 zemích na pěti kontinentech.https://www.theblackholeblues.com/
LOCATION:Znojmo
END:VEVENT
END:VCALENDAR