BEGIN:VCALENDAR
VERSION:2.0
CALSCALE:GREGORIAN
PRODID:-//MyApp//Calendar 1.0//EN
BEGIN:VEVENT
METHOD:PUBLISH
UID:36844@regionalniportaly.cz
DTSTAMP:20260422T154222Z
DTSTART;VALUE=DATE:20240215
DTEND;VALUE=DATE:20240216
SUMMARY:Wille & The Bandits (UK)
DESCRIPTION:WILLE &amp\; THE&nbsp\;BANDITS&nbsp\;je britská kapela\, která hraje různé žánry zahrnující blues\, rock\, latinu a folk.https://www.willeandthebandits.com/
LOCATION:Znojmo
END:VEVENT
END:VCALENDAR