BEGIN:VCALENDAR
VERSION:2.0
CALSCALE:GREGORIAN
PRODID:-//MyApp//Calendar 1.0//EN
BEGIN:VEVENT
METHOD:PUBLISH
UID:36896@regionalniportaly.cz
DTSTAMP:20260422T124124Z
DTSTART;VALUE=DATE:20240223
DTEND;VALUE=DATE:20240224
SUMMARY:Nigel Price Organ Trio (UK)
DESCRIPTION:Během více než 25leté kariéry se&nbsp\;jazzový kytarista Nigel Price stal široce uznávaným jako jeden z&nbsp\;nejtvrději pracujících hudebníků v&nbsp\;oboru. Jeho směs plynulých bebopových linek\, hlubokého bluesového cítění a&nbsp\;jeho mistrovství v&nbsp\;akordování hudebně těší publikum i&nbsp\;ostatní hudebníky.https://nigethejazzer.com/home/nigelprice
LOCATION:Znojmo
END:VEVENT
END:VCALENDAR