BEGIN:VCALENDAR
VERSION:2.0
CALSCALE:GREGORIAN
PRODID:-//MyApp//Calendar 1.0//EN
BEGIN:VEVENT
METHOD:PUBLISH
UID:37068@regionalniportaly.cz
DTSTAMP:20260422T135559Z
DTSTART;VALUE=DATE:20240214
DTEND;VALUE=DATE:20240215
SUMMARY:ŠVANCI - JÁ SU JÁ SHOW
DESCRIPTION:Show „JÁ SU JÁ“ exkluzivně ve speciální limitované tour po České republice. Čekají vás historky o mém životě\, prostor na otázky na tělo\, autogramiáda\, focení a mnoho dalšího.Jak moc dobře mě znáš? Co jsem ještě neřekl o Survivoru? Jaká byla moje profesionální kariéra fotbalisty? Nejen to se dozvíš ve&nbsp\;zbrusu nové zábavné show „JÁ SU JÁ“.Přijď se podívat a užít si legraci\, popovídat si s legendou fotbalu\, moderátorem\, bavičem a dát si třeba fotku\, nebo si nechat cokoliv podepsat.
LOCATION:Hodonice
END:VEVENT
END:VCALENDAR